BEGIN:VCALENDAR
VERSION:2.0
PRODID:-//Friends of TRA - ECPv6.15.20//NONSGML v1.0//EN
CALSCALE:GREGORIAN
METHOD:PUBLISH
X-WR-CALNAME:Friends of TRA
X-ORIGINAL-URL:https://friendsoftra.org
X-WR-CALDESC:Events for Friends of TRA
REFRESH-INTERVAL;VALUE=DURATION:PT1H
X-Robots-Tag:noindex
X-PUBLISHED-TTL:PT1H
BEGIN:VTIMEZONE
TZID:America/New_York
BEGIN:DAYLIGHT
TZOFFSETFROM:-0500
TZOFFSETTO:-0400
TZNAME:EDT
DTSTART:20200308T070000
END:DAYLIGHT
BEGIN:STANDARD
TZOFFSETFROM:-0400
TZOFFSETTO:-0500
TZNAME:EST
DTSTART:20201101T060000
END:STANDARD
BEGIN:DAYLIGHT
TZOFFSETFROM:-0500
TZOFFSETTO:-0400
TZNAME:EDT
DTSTART:20210314T070000
END:DAYLIGHT
BEGIN:STANDARD
TZOFFSETFROM:-0400
TZOFFSETTO:-0500
TZNAME:EST
DTSTART:20211107T060000
END:STANDARD
BEGIN:DAYLIGHT
TZOFFSETFROM:-0500
TZOFFSETTO:-0400
TZNAME:EDT
DTSTART:20220313T070000
END:DAYLIGHT
BEGIN:STANDARD
TZOFFSETFROM:-0400
TZOFFSETTO:-0500
TZNAME:EST
DTSTART:20221106T060000
END:STANDARD
END:VTIMEZONE
BEGIN:VEVENT
DTSTART;TZID=America/New_York:20211019T110000
DTEND;TZID=America/New_York:20211019T120000
DTSTAMP:20260423T122133
CREATED:20211018T202550Z
LAST-MODIFIED:20211018T202654Z
UID:5864-1634641200-1634644800@friendsoftra.org
SUMMARY:When the war came. Three households on the Palisades face the Civil War
DESCRIPTION:While no battles were fought in Hudson Valley\, the effects of the Civil War were felt throughout the region. In the tiny riverfront settlement of Closter Landing on the NJ Palisades around a dozen men volunteered for the Union. Historical Interpreter Eric Nelsen investigates three of these households\, each headed by a widow whose sons went off to fight.\n \nRegister by emailing PeggyM@wlsmail.org or call 914-693-6636 to register 
URL:https://friendsoftra.org/event/when-the-war-came-three-households-on-the-palisades-face-the-civil-war/
LOCATION:Virtual Presentation
CATEGORIES:Ardsley Library
END:VEVENT
BEGIN:VEVENT
DTSTART;TZID=America/New_York:20210601T110000
DTEND;TZID=America/New_York:20210601T120000
DTSTAMP:20260423T122133
CREATED:20210519T122412Z
LAST-MODIFIED:20210519T122412Z
UID:4520-1622545200-1622548800@friendsoftra.org
SUMMARY:Raptors for Rookies with Anne Swaim
DESCRIPTION:Over 20 species of raptors may be spotted in our area including various kinds of eagles\, hawks\, falcons and owls. this Zoom presentation is a multimedia program with some of the best raptor images from local photographers\, video clips and more. \nRegistration required. Email PeggyM@wlsmail.org or call 914-693-6636
URL:https://friendsoftra.org/event/raptors-for-rookies-with-anne-swaim/
LOCATION:Virtual Presentation
CATEGORIES:Ardsley Library
END:VEVENT
END:VCALENDAR