BEGIN:VCALENDAR
VERSION:2.0
PRODID:-//Friends of TRA - ECPv6.15.20//NONSGML v1.0//EN
CALSCALE:GREGORIAN
METHOD:PUBLISH
X-ORIGINAL-URL:https://friendsoftra.org
X-WR-CALDESC:Events for Friends of TRA
REFRESH-INTERVAL;VALUE=DURATION:PT1H
X-Robots-Tag:noindex
X-PUBLISHED-TTL:PT1H
BEGIN:VTIMEZONE
TZID:America/New_York
BEGIN:DAYLIGHT
TZOFFSETFROM:-0500
TZOFFSETTO:-0400
TZNAME:EDT
DTSTART:20200308T070000
END:DAYLIGHT
BEGIN:STANDARD
TZOFFSETFROM:-0400
TZOFFSETTO:-0500
TZNAME:EST
DTSTART:20201101T060000
END:STANDARD
BEGIN:DAYLIGHT
TZOFFSETFROM:-0500
TZOFFSETTO:-0400
TZNAME:EDT
DTSTART:20210314T070000
END:DAYLIGHT
BEGIN:STANDARD
TZOFFSETFROM:-0400
TZOFFSETTO:-0500
TZNAME:EST
DTSTART:20211107T060000
END:STANDARD
BEGIN:DAYLIGHT
TZOFFSETFROM:-0500
TZOFFSETTO:-0400
TZNAME:EDT
DTSTART:20220313T070000
END:DAYLIGHT
BEGIN:STANDARD
TZOFFSETFROM:-0400
TZOFFSETTO:-0500
TZNAME:EST
DTSTART:20221106T060000
END:STANDARD
END:VTIMEZONE
BEGIN:VEVENT
DTSTART;TZID=America/New_York:20211114T140000
DTEND;TZID=America/New_York:20211114T150000
DTSTAMP:20260423T003324
CREATED:20211105T212730Z
LAST-MODIFIED:20211105T212730Z
UID:6016-1636898400-1636902000@friendsoftra.org
SUMMARY:Duo Cello Performance with Howard Cohen and Seth Jacobs
DESCRIPTION:Seth Jacobs and Howard Cohen\, accomplished cellists\, will perform musical numbers\, from Bach to the Beatles. Seth will also play guitar and sing. Musical selections will include classical\, klezmer\, Yiddish\, bossa nova\, bluegrass\, and popular songs. Registration begins October 22 via LocalHop. Note: Masks must be worn by all participants regardless of vaccination status. \nRegister here for Cello Performance \n  \n 
URL:https://friendsoftra.org/event/duo-cello-performance-with-howard-cohen-and-seth-jacobs/
LOCATION:Hendrick Hudson Free Library\, 185 Kings Ferry Road\, Montrose\, NY\, 10548
CATEGORIES:Hendrick Hudson Free Library
END:VEVENT
BEGIN:VEVENT
DTSTART;TZID=America/New_York:20211108T180000
DTEND;TZID=America/New_York:20211108T190000
DTSTAMP:20260423T003324
CREATED:20211105T210310Z
LAST-MODIFIED:20211105T213004Z
UID:6012-1636394400-1636398000@friendsoftra.org
SUMMARY:The Discovery of a Masterpiece via Zoom
DESCRIPTION:Mallory Mortillaro\, Curator of Collections for the Hartley Dodge Foundation\, in Madison\, New Jersey\, uncovered a masterpiece while cataloging the artwork housed at the Hartley Dodge Memorial that had been lost to the art world since the 1930s. Mallory will share the story of how a simple art cataloging project evolved into one of the biggest art finds in recent history. \nRegistration begins October 25 via the library’s Web site. The Zoom invitation will be sent out one day prior to the program \nRegister here for Discovery \n 
URL:https://friendsoftra.org/event/the-discovery-of-a-masterpiece-via-zoom/
LOCATION:Virtual Presentation
CATEGORIES:Hendrick Hudson Free Library
END:VEVENT
END:VCALENDAR