BEGIN:VCALENDAR
VERSION:2.0
PRODID:-//Friends of TRA - ECPv6.15.20//NONSGML v1.0//EN
CALSCALE:GREGORIAN
METHOD:PUBLISH
X-ORIGINAL-URL:https://friendsoftra.org
X-WR-CALDESC:Events for Friends of TRA
REFRESH-INTERVAL;VALUE=DURATION:PT1H
X-Robots-Tag:noindex
X-PUBLISHED-TTL:PT1H
BEGIN:VTIMEZONE
TZID:America/New_York
BEGIN:DAYLIGHT
TZOFFSETFROM:-0500
TZOFFSETTO:-0400
TZNAME:EDT
DTSTART:20200308T070000
END:DAYLIGHT
BEGIN:STANDARD
TZOFFSETFROM:-0400
TZOFFSETTO:-0500
TZNAME:EST
DTSTART:20201101T060000
END:STANDARD
BEGIN:DAYLIGHT
TZOFFSETFROM:-0500
TZOFFSETTO:-0400
TZNAME:EDT
DTSTART:20210314T070000
END:DAYLIGHT
BEGIN:STANDARD
TZOFFSETFROM:-0400
TZOFFSETTO:-0500
TZNAME:EST
DTSTART:20211107T060000
END:STANDARD
BEGIN:DAYLIGHT
TZOFFSETFROM:-0500
TZOFFSETTO:-0400
TZNAME:EDT
DTSTART:20220313T070000
END:DAYLIGHT
BEGIN:STANDARD
TZOFFSETFROM:-0400
TZOFFSETTO:-0500
TZNAME:EST
DTSTART:20221106T060000
END:STANDARD
END:VTIMEZONE
BEGIN:VEVENT
DTSTART;TZID=America/New_York:20210412T140000
DTEND;TZID=America/New_York:20210412T150000
DTSTAMP:20260423T003307
CREATED:20210412T202105Z
LAST-MODIFIED:20210412T202105Z
UID:4208-1618236000-1618239600@friendsoftra.org
SUMMARY:Northern Harvest: Twenty Michigan Women in Food and Farming
DESCRIPTION:Join local author Emita Brady Hill who will discuss her 2020 book Northern Harvest: Twenty Michigan Women in Food and Farming. North Harvest is a collection of oral histories that celebrates the lives of twenty  female culinary pioneers. \n\n Click here to register for Northern Harvest  \n 
URL:https://friendsoftra.org/event/northern-harvest-twenty-michigan-women-in-food-and-farming/
LOCATION:Virtual Presentation
CATEGORIES:Mamaroneck Public Library
END:VEVENT
END:VCALENDAR