BEGIN:VCALENDAR
VERSION:2.0
PRODID:-//Friends of TRA - ECPv6.15.20//NONSGML v1.0//EN
CALSCALE:GREGORIAN
METHOD:PUBLISH
X-WR-CALNAME:Friends of TRA
X-ORIGINAL-URL:https://friendsoftra.org
X-WR-CALDESC:Events for Friends of TRA
REFRESH-INTERVAL;VALUE=DURATION:PT1H
X-Robots-Tag:noindex
X-PUBLISHED-TTL:PT1H
BEGIN:VTIMEZONE
TZID:America/New_York
BEGIN:DAYLIGHT
TZOFFSETFROM:-0500
TZOFFSETTO:-0400
TZNAME:EDT
DTSTART:20200308T070000
END:DAYLIGHT
BEGIN:STANDARD
TZOFFSETFROM:-0400
TZOFFSETTO:-0500
TZNAME:EST
DTSTART:20201101T060000
END:STANDARD
BEGIN:DAYLIGHT
TZOFFSETFROM:-0500
TZOFFSETTO:-0400
TZNAME:EDT
DTSTART:20210314T070000
END:DAYLIGHT
BEGIN:STANDARD
TZOFFSETFROM:-0400
TZOFFSETTO:-0500
TZNAME:EST
DTSTART:20211107T060000
END:STANDARD
BEGIN:DAYLIGHT
TZOFFSETFROM:-0500
TZOFFSETTO:-0400
TZNAME:EDT
DTSTART:20220313T070000
END:DAYLIGHT
BEGIN:STANDARD
TZOFFSETFROM:-0400
TZOFFSETTO:-0500
TZNAME:EST
DTSTART:20221106T060000
END:STANDARD
BEGIN:DAYLIGHT
TZOFFSETFROM:-0500
TZOFFSETTO:-0400
TZNAME:EDT
DTSTART:20230312T070000
END:DAYLIGHT
BEGIN:STANDARD
TZOFFSETFROM:-0400
TZOFFSETTO:-0500
TZNAME:EST
DTSTART:20231105T060000
END:STANDARD
BEGIN:DAYLIGHT
TZOFFSETFROM:-0500
TZOFFSETTO:-0400
TZNAME:EDT
DTSTART:20240310T070000
END:DAYLIGHT
BEGIN:STANDARD
TZOFFSETFROM:-0400
TZOFFSETTO:-0500
TZNAME:EST
DTSTART:20241103T060000
END:STANDARD
BEGIN:DAYLIGHT
TZOFFSETFROM:-0500
TZOFFSETTO:-0400
TZNAME:EDT
DTSTART:20250309T070000
END:DAYLIGHT
BEGIN:STANDARD
TZOFFSETFROM:-0400
TZOFFSETTO:-0500
TZNAME:EST
DTSTART:20251102T060000
END:STANDARD
BEGIN:DAYLIGHT
TZOFFSETFROM:-0500
TZOFFSETTO:-0400
TZNAME:EDT
DTSTART:20260308T070000
END:DAYLIGHT
BEGIN:STANDARD
TZOFFSETFROM:-0400
TZOFFSETTO:-0500
TZNAME:EST
DTSTART:20261101T060000
END:STANDARD
END:VTIMEZONE
BEGIN:VEVENT
DTSTART;TZID=America/New_York:20250720T120000
DTEND;TZID=America/New_York:20250720T180000
DTSTAMP:20260422T072634
CREATED:20250716T191738Z
LAST-MODIFIED:20250716T192405Z
UID:7966-1753012800-1753034400@friendsoftra.org
SUMMARY:TRA Outreach
DESCRIPTION:Enjoy the Festivities. Stop by and say hello to Ibrahim and Joe at the TRA tent and outreach table. Hear more about our services and our volunteer driver opportunities. Enjoy the ethnic food and dance at the Italian Heritage Festival. For more about TRA volunteer opportunities at click here   
URL:https://friendsoftra.org/event/tra-outreach/
LOCATION:Kensico Dam Plaza\, north end of Bronx River Parkway\, Valhalla\, New York
CATEGORIES:Westchester County
END:VEVENT
BEGIN:VEVENT
DTSTART;TZID=America/New_York:20220913T100000
DTEND;TZID=America/New_York:20220913T140000
DTSTAMP:20260422T072634
CREATED:20220608T122135Z
LAST-MODIFIED:20220608T122653Z
UID:7510-1663063200-1663077600@friendsoftra.org
SUMMARY:Celebrate Aging: Livable Communities Village Fair
DESCRIPTION:Celebrate Aging: Eighth Annual Livable Communities Village Fair \nCome to the fair for MOVEMENT\, DISCUSSION\, INTERACTIVE LEARNING and FUN with inspired thinkers and doers from across Westchester County \nFree admission and on-site parking at the Mount Pleasant Community Center. \nComplimentary light lunch with registration. \nTo register and for more information email  Jennifer Crawford here or call 914-813-6263.
URL:https://friendsoftra.org/event/celebrate-aging/
LOCATION:Mount Pleasant Community Center\, 125 Lozza Drive\, Valhalla\, NY\, 10585\, United States
CATEGORIES:Westchester County
END:VEVENT
BEGIN:VEVENT
DTSTART;TZID=America/New_York:20220623T130000
DTEND;TZID=America/New_York:20220623T140000
DTSTAMP:20260422T072634
CREATED:20220608T133227Z
LAST-MODIFIED:20220608T133331Z
UID:7518-1655989200-1655992800@friendsoftra.org
SUMMARY:Know Better\, Live Better
DESCRIPTION:Know Better\, Live Better (KBLB) is an initiative to promote community health. Trusted messengers from your community will lead discussions about disease prevention\, access to healthcare resources around Westchester County\, and other important health issues! \nCome join us for a 1 hour session at Anthony F. Veteran Park Multipurpose Center. To thank you for your time and participation\, all attendees will receive a $10 Amazon gift card! \nSession information: Please register in advance by phone or in person. \nFor more information\, contact Greenburgh Parks & Recreation at 914 989 1822 \nFor more information about the program: westchestergov.com/kblb
URL:https://friendsoftra.org/event/know-better-live-better/
LOCATION:Anthony F. Veteran Park\, 11 Olympic Lane\, Ardsley\, NY\, 10502\, United States
CATEGORIES:Westchester County
END:VEVENT
BEGIN:VEVENT
DTSTART;TZID=America/New_York:20220615T100000
DTEND;TZID=America/New_York:20220615T110000
DTSTAMP:20260422T072634
CREATED:20220602T164325Z
LAST-MODIFIED:20220602T164325Z
UID:7458-1655287200-1655290800@friendsoftra.org
SUMMARY:WORLD ELDER ABUSE AWARENESS DAY
DESCRIPTION:A special program in recognition of World Elder Abuse Awareness Day \nGuarding Your Physical\, Emotional\, and Financial Safety: Tools and Real-Life Examples \nWe will begin this webinar with an overview of online resources to fight scams and fraud\, protect your personal information\, and check “facts” that are presented to you. \nThe discussion will then focus on two situations that often happen to older adults.\nWe will address:\n• How the situation should be handled\n• How to move forward and protect oneself better in the future. \nRepresentatives from these six co-sponsoring organizations will provide suggestions on how they can help you in the future.\n• Office of the District Attorney – Westchester County\n• State of New York Office of the Attorney General\n• Pace Women’s Justice Center\n• Westchester County Department of Senior Programs & Services\n• Westchester County Department of Social Services – Adult Protective Services\n• Westchester Library System \nRegister for this FREE webinar World Elder Abuse Awareness here. \n(Dial-in by phone obtained on registration or by calling and leaving a message for Paul at 914.231.3227) \nWorld Elder Abuse Awareness Day is held annually on June 15th as an International UN observance\, recognizing that abuse of the elderly is an increasing and serious problem as longevity increases
URL:https://friendsoftra.org/event/world-elder-abuse-awareness-day/
LOCATION:Virtual Presentation
CATEGORIES:Westchester County
END:VEVENT
BEGIN:VEVENT
DTSTART;TZID=America/New_York:20220331T180000
DTEND;TZID=America/New_York:20220331T190000
DTSTAMP:20260422T072634
CREATED:20220225T163352Z
LAST-MODIFIED:20220225T163352Z
UID:6872-1648749600-1648753200@friendsoftra.org
SUMMARY:Westchester County Fair housing Law
DESCRIPTION:Learn more about the Westchester County Fair Housing Law: \n\nreasonable accommodations such as parking spaces and service animals\nreasonable modifications such as wheelchair ramps for people with disabilities\ndisclosure by cooperative boards\nand more\n\nThis presentation will focus on rights and obligations under the Westchester County Fair Housing Law. \nPresented by the Westchester County Human Rights Commission\, with Sadie Heald\, Community Work Assistant\, Westchester County Human Rights Commission – https://humanrights.westchestergov.com/ \nTo register and request the ZOOM link\, email dobref@wlsmail.org – please indicate the title of the program you are registering for.
URL:https://friendsoftra.org/event/westchester-county-fair-housing-law/
LOCATION:Virtual Presentation
CATEGORIES:Westchester County
END:VEVENT
BEGIN:VEVENT
DTSTART;TZID=America/New_York:20220113T130000
DTEND;TZID=America/New_York:20220113T153000
DTSTAMP:20260422T072634
CREATED:20211214T191110Z
LAST-MODIFIED:20211214T191609Z
UID:6153-1642078800-1642087800@friendsoftra.org
SUMMARY:The Health for Life Program (HELP)
DESCRIPTION:If you have a chronic condition or care for someone who does this program will help you manage chronic conditions. \nSix Thursdays January 13\, 20\, 27 and February 3\, 10\, 17\nTime: 1pm to 3:30pm \nContact Marikay Capasso at mqcq@westchestergov.com or call 914.813.6427 to register and get Zoom link. Phone options are also available.
URL:https://friendsoftra.org/event/the-health-for-life-program-help-2/
LOCATION:Virtual Presentation
CATEGORIES:Westchester County
END:VEVENT
BEGIN:VEVENT
DTSTART;TZID=America/New_York:20220105T140000
DTEND;TZID=America/New_York:20220105T153000
DTSTAMP:20260422T072634
CREATED:20211214T190111Z
LAST-MODIFIED:20211214T190111Z
UID:6144-1641391200-1641396600@friendsoftra.org
SUMMARY:Radio Theatre Class Writing a Radio Play
DESCRIPTION:During this workshop\, participants will learn story telling and playwriting skills and create sound effects from objects around the house to develop a captivating classic radio play. Led by teaching artist Vinny Mraz Radio Theatre Class meets weekly via zoom for six weeks. This free workshop is for older adult residents of Westchester. \nWednesdays January 5\, 12\, 19\, 26 \nFebruary 2\, 9\n2pm to 3:30pm \nPresentation and Celebration February 16 \n2pm to 3:30pm \nPreregistration required\, space limited\nContact Marikay Capasso at mqcq@westchestergov.com or call 914.813.6427
URL:https://friendsoftra.org/event/radio-theatre-class-writing-a-radio-play/
LOCATION:Virtual Presentation
CATEGORIES:Westchester County
END:VEVENT
BEGIN:VEVENT
DTSTART;TZID=America/New_York:20211118T103000
DTEND;TZID=America/New_York:20211118T120000
DTSTAMP:20260422T072634
CREATED:20211019T140809Z
LAST-MODIFIED:20211019T143441Z
UID:5872-1637231400-1637236800@friendsoftra.org
SUMMARY:Transportation Options Available to Seniors in Westchester
DESCRIPTION:A panel of experts will share knowledge about transportation options available to seniors in Westchester. \nFor more information contact Jennifer Crawford here  or call 914-813-6263 \nVirtual – (WebEx) \nTo Join this meeting – click here\nMeeting number (access code): 2430 190 4104\nMeeting password: K6ifAti58Ss \nJoin from a mobile device (attendees only) \n+1-415-655-0001\, 24301904104# US Toll \n1-844-621-3956\, 24301904104# United States Toll Free \nJoin by phone \n+1-415-655-0001 US Toll \n1-844-621-3956 United States Toll Free \nJoin from a video system or application\nDial 24301904104@westchestergov.webex.com \nYou can also dial 173.243.2.68 and enter your meeting number. \nJoin using Microsoft Lync or Microsoft Skype for Business\nDial 24301904104.westchestergov@lync.webex.com
URL:https://friendsoftra.org/event/transportation-options-available-to-seniors-in-westchester/
LOCATION:Virtual Presentation
CATEGORIES:Westchester County
END:VEVENT
BEGIN:VEVENT
DTSTART;TZID=America/New_York:20211028T103000
DTEND;TZID=America/New_York:20211028T113000
DTSTAMP:20260422T072634
CREATED:20211019T142201Z
LAST-MODIFIED:20211019T142504Z
UID:5878-1635417000-1635420600@friendsoftra.org
SUMMARY:Age Friendly Healthy Aging Cooking Demo: Flavors of Fall
DESCRIPTION:Daryl Moss of Mission to Wellness is a Certified Holistic Health Coach who will demonstrate how to prepare fall time favorites such as butternut squash soup\, roasted chicken and apple crisp. Daryl received her training from the Institute for Integrative Nutrition\, where she studied a variety of dietary theories and practical lifestyle coaching methods. She also received a Certificate in Nutritional Counseling from Teachers College at Columbia University\, and is a graduate of Trinity College\, Hartford\, CT. Presented by the Age Friendly Collaborative. \nFor more information email Jennifer Crawford here \n or call 914-813-6263 \nJoin this meeting – click here \nMeeting number (access code): 2423 403 9531\nMeeting password: HkwG3mfzS32  \nJoin from a mobile device (attendees only) \n+1-415-655-0001\, 24234039531# US Toll \n1-844-621-3956\, 24234039531# United States Toll Free \nJoin by phone \n+1-415-655-0001 US Toll \n1-844-621-3956 United States Toll Free \nJoin from a video system or application\nDial 24234039531@westchestergov.webex.com \nYou can also dial 173.243.2.68 and enter your meeting number. \nJoin using Microsoft Lync or Microsoft Skype for Business\nDial 24234039531.westchestergov@lync.webex.com \n\n———-
URL:https://friendsoftra.org/event/age-friendly-healthy-aging-cooking-demo-flavors-of-fall/
LOCATION:Virtual Presentation
CATEGORIES:Westchester County
END:VEVENT
END:VCALENDAR