BEGIN:VCALENDAR
VERSION:2.0
PRODID:-//Friends of TRA - ECPv6.15.20//NONSGML v1.0//EN
CALSCALE:GREGORIAN
METHOD:PUBLISH
X-WR-CALNAME:Friends of TRA
X-ORIGINAL-URL:https://friendsoftra.org
X-WR-CALDESC:Events for Friends of TRA
REFRESH-INTERVAL;VALUE=DURATION:PT1H
X-Robots-Tag:noindex
X-PUBLISHED-TTL:PT1H
BEGIN:VTIMEZONE
TZID:America/New_York
BEGIN:DAYLIGHT
TZOFFSETFROM:-0500
TZOFFSETTO:-0400
TZNAME:EDT
DTSTART:20200308T070000
END:DAYLIGHT
BEGIN:STANDARD
TZOFFSETFROM:-0400
TZOFFSETTO:-0500
TZNAME:EST
DTSTART:20201101T060000
END:STANDARD
BEGIN:DAYLIGHT
TZOFFSETFROM:-0500
TZOFFSETTO:-0400
TZNAME:EDT
DTSTART:20210314T070000
END:DAYLIGHT
BEGIN:STANDARD
TZOFFSETFROM:-0400
TZOFFSETTO:-0500
TZNAME:EST
DTSTART:20211107T060000
END:STANDARD
BEGIN:DAYLIGHT
TZOFFSETFROM:-0500
TZOFFSETTO:-0400
TZNAME:EDT
DTSTART:20220313T070000
END:DAYLIGHT
BEGIN:STANDARD
TZOFFSETFROM:-0400
TZOFFSETTO:-0500
TZNAME:EST
DTSTART:20221106T060000
END:STANDARD
END:VTIMEZONE
BEGIN:VEVENT
DTSTART;TZID=America/New_York:20210812T130000
DTEND;TZID=America/New_York:20210812T140000
DTSTAMP:20260423T011428
CREATED:20210803T194908Z
LAST-MODIFIED:20210803T195709Z
UID:5189-1628773200-1628776800@friendsoftra.org
SUMMARY:Protecting Yourself from Financial Elder Abuse and Senior Scams
DESCRIPTION:According to the National Council on Aging\, financial scams targeting seniors have become so prevalent that they’re often referred to as “the crime of the 21st century.” \nJoin elder law attorney Lauren C. Enea\, Esq.\, as she shares her insights on financial elder abuse and senior scams\, as well as the important estate planning documents to help protect against financial abuse as one ages. Lauren C. Enea practices exclusively in elder law protecting the rights of seniors\, the disabled and their families. She is an associate at Enea\, Scanlan and Sirignano\, LLP in Somers and White Plains. \nUse this link to Register for Protect Yourself from Financial Elder Abuse and Scams \nThis program is scheduled to meet at the library.
URL:https://friendsoftra.org/event/protecting-yourself-from-financial-elder-abuse-and-senior-scams/
LOCATION:Yorktown Library\, 1130 E. Main Street\, Shrub Oak\, NY\, 10588
CATEGORIES:Yorktown Library
END:VEVENT
END:VCALENDAR